BEGIN:VCALENDAR
VERSION:2.0
PRODID:-//Tukios.com/
BEGIN:VEVENT
UID:5bdcd48d-fd4a-4621-a29f-b61d6de09b7d@www.freundfuneralhome.com
DTSTAMP:20260422T002400Z
DTSTART:20260425T150000Z
DTEND:20260425T160000Z
SUMMARY:Funeral Service
DESCRIPTION:
URL:https://www.freundfuneralhome.com/obituaries/derle-cuellar
LOCATION: 209 King Street  Cuero TX 77954
GEO:29.099537;-97.297203
END:VEVENT
END:VCALENDAR