BEGIN:VCALENDAR
VERSION:2.0
PRODID:-//Tukios.com/
BEGIN:VEVENT
UID:a5ccc0a2-b3fc-45fc-9f21-5788c3b0dc35@www.freundfuneralhome.com
DTSTAMP:20260422T002549Z
DTSTART:20260425T140000Z
DTEND:20260425T150000Z
SUMMARY:Visitation
DESCRIPTION:
URL:https://www.freundfuneralhome.com/obituaries/derle-cuellar
LOCATION: 209 King Street  Cuero TX 77954
GEO:29.099537;-97.297203
END:VEVENT
END:VCALENDAR